BEGIN:VCALENDAR
VERSION:2.0
PRODID:-//Meditaci&oacute;n Zen Sevilla - ECPv6.15.13.1//NONSGML v1.0//EN
CALSCALE:GREGORIAN
METHOD:PUBLISH
X-WR-CALNAME:Meditaci&oacute;n Zen Sevilla
X-ORIGINAL-URL:https://www.meditacionzensevilla.com
X-WR-CALDESC:Eventos para Meditaci&oacute;n Zen Sevilla
REFRESH-INTERVAL;VALUE=DURATION:PT1H
X-Robots-Tag:noindex
X-PUBLISHED-TTL:PT1H
BEGIN:VTIMEZONE
TZID:Europe/Helsinki
BEGIN:DAYLIGHT
TZOFFSETFROM:+0200
TZOFFSETTO:+0300
TZNAME:EEST
DTSTART:20250330T010000
END:DAYLIGHT
BEGIN:STANDARD
TZOFFSETFROM:+0300
TZOFFSETTO:+0200
TZNAME:EET
DTSTART:20251026T010000
END:STANDARD
BEGIN:DAYLIGHT
TZOFFSETFROM:+0200
TZOFFSETTO:+0300
TZNAME:EEST
DTSTART:20260329T010000
END:DAYLIGHT
BEGIN:STANDARD
TZOFFSETFROM:+0300
TZOFFSETTO:+0200
TZNAME:EET
DTSTART:20261025T010000
END:STANDARD
BEGIN:DAYLIGHT
TZOFFSETFROM:+0200
TZOFFSETTO:+0300
TZNAME:EEST
DTSTART:20270328T010000
END:DAYLIGHT
BEGIN:STANDARD
TZOFFSETFROM:+0300
TZOFFSETTO:+0200
TZNAME:EET
DTSTART:20271031T010000
END:STANDARD
END:VTIMEZONE
BEGIN:VEVENT
DTSTART;TZID=Europe/Helsinki:20260203T093000
DTEND;TZID=Europe/Helsinki:20260203T110000
DTSTAMP:20260420T083919
CREATED:20260201T204939Z
LAST-MODIFIED:20260201T204939Z
UID:6615-1770111000-1770116400@www.meditacionzensevilla.com
SUMMARY:MEDITACIÓN MATINAL ONLINE
DESCRIPTION:LA BARCA DE BUDA le está invitando a través de ZOOM a la meditación online de los martes de 09:30h a 11:00h de la mañana. \nEntra en la reunión pulsando AQUÍ o copiando el siguiente enlace: \nhttps://us02web.zoom.us/j/87975583589?pwd=Y2hBSmNxT20xRXZ5dFNIYVQ3ZkU5QT09 \no bien\, en la aplicación ZOOM entra los siguientes datos: \nID de reunión: 879 7558 3589\nCódigo de acceso: LaBarca01
URL:https://www.meditacionzensevilla.com/evento/meditacion-matinal-online-11/
END:VEVENT
BEGIN:VEVENT
DTSTART;TZID=Europe/Helsinki:20260203T180000
DTEND;TZID=Europe/Helsinki:20260203T191500
DTSTAMP:20260420T083919
CREATED:20260201T204413Z
LAST-MODIFIED:20260201T204413Z
UID:6607-1770141600-1770146100@www.meditacionzensevilla.com
SUMMARY:MEDITACIÓN PRESENCIAL
DESCRIPTION:Te esperamos en nuestra sala de meditación en Sevilla Plaza de la Moravia 6\, local. Tienes a tu disposición sillas\, zafús\, banquito\, mantas y cojines. \nTodos los martes de 18:00 a 19:15 \nAportación 3 euros (voluntaria)
URL:https://www.meditacionzensevilla.com/evento/meditacion-presencial-117/
END:VEVENT
BEGIN:VEVENT
DTSTART;TZID=Europe/Helsinki:20260205T190000
DTEND;TZID=Europe/Helsinki:20260205T203000
DTSTAMP:20260420T083919
CREATED:20260201T203957Z
LAST-MODIFIED:20260201T203957Z
UID:6598-1770318000-1770323400@www.meditacionzensevilla.com
SUMMARY:MEDITACIÓN PRESENCIAL
DESCRIPTION:Te esperamos en nuestra sala de meditación en Sevilla Plaza de la Moravia 6\, local. Tienes a tu disposición sillas\, zafús\, banquito\, mantas y cojines. \nTodos los jueves de 19:00 a 20:30 \nAportación 3 euros (voluntaria)
URL:https://www.meditacionzensevilla.com/evento/meditacion-presencial-113/
END:VEVENT
BEGIN:VEVENT
DTSTART;TZID=Europe/Helsinki:20260210T093000
DTEND;TZID=Europe/Helsinki:20260210T110000
DTSTAMP:20260420T083919
CREATED:20260201T205123Z
LAST-MODIFIED:20260201T205123Z
UID:6619-1770715800-1770721200@www.meditacionzensevilla.com
SUMMARY:MEDITACIÓN MATINAL ONLINE
DESCRIPTION:LA BARCA DE BUDA le está invitando a través de ZOOM a la meditación online de los martes de 09:30h a 11:00h de la mañana. \nEntra en la reunión pulsando AQUÍ o copiando el siguiente enlace: \nhttps://us02web.zoom.us/j/87975583589?pwd=Y2hBSmNxT20xRXZ5dFNIYVQ3ZkU5QT09 \no bien\, en la aplicación ZOOM entra los siguientes datos: \nID de reunión: 879 7558 3589\nCódigo de acceso: LaBarca01
URL:https://www.meditacionzensevilla.com/evento/meditacion-matinal-online-13/
END:VEVENT
BEGIN:VEVENT
DTSTART;TZID=Europe/Helsinki:20260210T180000
DTEND;TZID=Europe/Helsinki:20260210T191500
DTSTAMP:20260420T083919
CREATED:20260201T204539Z
LAST-MODIFIED:20260201T204539Z
UID:6609-1770746400-1770750900@www.meditacionzensevilla.com
SUMMARY:MEDITACIÓN PRESENCIAL
DESCRIPTION:Te esperamos en nuestra sala de meditación en Sevilla Plaza de la Moravia 6\, local. Tienes a tu disposición sillas\, zafús\, banquito\, mantas y cojines. \nTodos los martes de 18:00 a 19:15 \nAportación 3 euros (voluntaria)
URL:https://www.meditacionzensevilla.com/evento/meditacion-presencial-118/
END:VEVENT
BEGIN:VEVENT
DTSTART;TZID=Europe/Helsinki:20260212T190000
DTEND;TZID=Europe/Helsinki:20260212T203000
DTSTAMP:20260420T083919
CREATED:20260201T204048Z
LAST-MODIFIED:20260201T204048Z
UID:6600-1770922800-1770928200@www.meditacionzensevilla.com
SUMMARY:MEDITACIÓN PRESENCIAL
DESCRIPTION:Te esperamos en nuestra sala de meditación en Sevilla Plaza de la Moravia 6\, local. Tienes a tu disposición sillas\, zafús\, banquito\, mantas y cojines. \nTodos los jueves de 19:00 a 20:30 \nAportación 3 euros (voluntaria)
URL:https://www.meditacionzensevilla.com/evento/meditacion-presencial-114/
END:VEVENT
BEGIN:VEVENT
DTSTART;TZID=Europe/Helsinki:20260217T093000
DTEND;TZID=Europe/Helsinki:20260217T110000
DTSTAMP:20260420T083919
CREATED:20260201T205034Z
LAST-MODIFIED:20260201T205248Z
UID:6617-1771320600-1771326000@www.meditacionzensevilla.com
SUMMARY:MEDITACIÓN MATINAL ONLINE
DESCRIPTION:LA BARCA DE BUDA le está invitando a través de ZOOM a la meditación online de los martes de 09:30h a 11:00h de la mañana. \nEntra en la reunión pulsando AQUÍ o copiando el siguiente enlace: \nhttps://us02web.zoom.us/j/87975583589?pwd=Y2hBSmNxT20xRXZ5dFNIYVQ3ZkU5QT09 \no bien\, en la aplicación ZOOM entra los siguientes datos: \nID de reunión: 879 7558 3589\nCódigo de acceso: LaBarca01
URL:https://www.meditacionzensevilla.com/evento/meditacion-matinal-online-12/
END:VEVENT
BEGIN:VEVENT
DTSTART;TZID=Europe/Helsinki:20260217T180000
DTEND;TZID=Europe/Helsinki:20260217T191500
DTSTAMP:20260420T083919
CREATED:20260201T204641Z
LAST-MODIFIED:20260201T204641Z
UID:6611-1771351200-1771355700@www.meditacionzensevilla.com
SUMMARY:MEDITACIÓN PRESENCIAL
DESCRIPTION:Te esperamos en nuestra sala de meditación en Sevilla Plaza de la Moravia 6\, local. Tienes a tu disposición sillas\, zafús\, banquito\, mantas y cojines. \nTodos los martes de 18:00 a 19:15 \nAportación 3 euros (voluntaria)
URL:https://www.meditacionzensevilla.com/evento/meditacion-presencial-119/
END:VEVENT
BEGIN:VEVENT
DTSTART;TZID=Europe/Helsinki:20260219T190000
DTEND;TZID=Europe/Helsinki:20260219T203000
DTSTAMP:20260420T083919
CREATED:20260201T204136Z
LAST-MODIFIED:20260201T204136Z
UID:6602-1771527600-1771533000@www.meditacionzensevilla.com
SUMMARY:MEDITACIÓN PRESENCIAL
DESCRIPTION:Te esperamos en nuestra sala de meditación en Sevilla Plaza de la Moravia 6\, local. Tienes a tu disposición sillas\, zafús\, banquito\, mantas y cojines. \nTodos los jueves de 19:00 a 20:30 \nAportación 3 euros (voluntaria)
URL:https://www.meditacionzensevilla.com/evento/meditacion-presencial-115/
END:VEVENT
BEGIN:VEVENT
DTSTART;TZID=Europe/Helsinki:20260221T103000
DTEND;TZID=Europe/Helsinki:20260221T170000
DTSTAMP:20260420T083919
CREATED:20260201T210726Z
LAST-MODIFIED:20260201T212719Z
UID:6623-1771669800-1771693200@www.meditacionzensevilla.com
SUMMARY:PASEO DE ATENCIÓN PLENA
DESCRIPTION:LUGAR: Parque del Tamarguillo (parque Alcosa\, Sevilla) \nDIA : 21 febrero 2026 \nPUNTO DE ENCUETRO: puerta en avenida de Séneca\, frente a calle Pintor Alfonso Grosso \nHORA :  10:30 \nPROGRAMA: \n\nPresentación\nejercicios corporales de chikung\nmeditación sentada y caminando en silencio con escucha activa de todo lo que nos rodea\, con atención plena en los órganos de los sentidos\nlectura del libro «Un canto de amor a la Tierra» de Thich Nhat Hanh\ncompartir de sentires (dharma)\nalmuerzo comunitario en el parque\n\nNOTA: \nTraer mochila con comida y bebida para el picnic \n  \nORGANIZA: La Barca de Buda\, Sangha de Thich Nhat Hanh en Sevilla \nFACILITADORA: Francisca Villarín\, tf 679794818 \n  \n \n 
URL:https://www.meditacionzensevilla.com/evento/paseo-de-atencion-plena-2/
END:VEVENT
BEGIN:VEVENT
DTSTART;TZID=Europe/Helsinki:20260224T093000
DTEND;TZID=Europe/Helsinki:20260224T110000
DTSTAMP:20260420T083919
CREATED:20260201T205332Z
LAST-MODIFIED:20260201T205332Z
UID:6621-1771925400-1771930800@www.meditacionzensevilla.com
SUMMARY:MEDITACIÓN MATINAL ONLINE
DESCRIPTION:LA BARCA DE BUDA le está invitando a través de ZOOM a la meditación online de los martes de 09:30h a 11:00h de la mañana. \nEntra en la reunión pulsando AQUÍ o copiando el siguiente enlace: \nhttps://us02web.zoom.us/j/87975583589?pwd=Y2hBSmNxT20xRXZ5dFNIYVQ3ZkU5QT09 \no bien\, en la aplicación ZOOM entra los siguientes datos: \nID de reunión: 879 7558 3589\nCódigo de acceso: LaBarca01
URL:https://www.meditacionzensevilla.com/evento/meditacion-matinal-online-14/
END:VEVENT
BEGIN:VEVENT
DTSTART;TZID=Europe/Helsinki:20260224T180000
DTEND;TZID=Europe/Helsinki:20260224T191500
DTSTAMP:20260420T083919
CREATED:20260201T204808Z
LAST-MODIFIED:20260201T204808Z
UID:6613-1771956000-1771960500@www.meditacionzensevilla.com
SUMMARY:MEDITACIÓN PRESENCIAL
DESCRIPTION:Te esperamos en nuestra sala de meditación en Sevilla Plaza de la Moravia 6\, local. Tienes a tu disposición sillas\, zafús\, banquito\, mantas y cojines. \nTodos los martes de 18:00 a 19:15 \nAportación 3 euros (voluntaria)
URL:https://www.meditacionzensevilla.com/evento/meditacion-presencial-120/
END:VEVENT
BEGIN:VEVENT
DTSTART;TZID=Europe/Helsinki:20260226T190000
DTEND;TZID=Europe/Helsinki:20260226T203000
DTSTAMP:20260420T083919
CREATED:20260201T204233Z
LAST-MODIFIED:20260303T123858Z
UID:6604-1772132400-1772137800@www.meditacionzensevilla.com
SUMMARY:MEDITACIÓN PRESENCIAL
DESCRIPTION:Te esperamos en nuestra sala de meditación en Sevilla Plaza de la Moravia 6\, local. Tienes a tu disposición sillas\, zafús\, banquito\, mantas y cojines. \nTodos los jueves de 19:00 a 20:30 \nAportación sugerida 3 euros
URL:https://www.meditacionzensevilla.com/evento/meditacion-presencial-116/
END:VEVENT
END:VCALENDAR