BEGIN:VCALENDAR
VERSION:2.0
PRODID:-//Meditaci&oacute;n Zen Sevilla - ECPv6.15.13.1//NONSGML v1.0//EN
CALSCALE:GREGORIAN
METHOD:PUBLISH
X-WR-CALNAME:Meditaci&oacute;n Zen Sevilla
X-ORIGINAL-URL:https://www.meditacionzensevilla.com
X-WR-CALDESC:Eventos para Meditaci&oacute;n Zen Sevilla
REFRESH-INTERVAL;VALUE=DURATION:PT1H
X-Robots-Tag:noindex
X-PUBLISHED-TTL:PT1H
BEGIN:VTIMEZONE
TZID:Europe/Helsinki
BEGIN:DAYLIGHT
TZOFFSETFROM:+0200
TZOFFSETTO:+0300
TZNAME:EEST
DTSTART:20250330T010000
END:DAYLIGHT
BEGIN:STANDARD
TZOFFSETFROM:+0300
TZOFFSETTO:+0200
TZNAME:EET
DTSTART:20251026T010000
END:STANDARD
BEGIN:DAYLIGHT
TZOFFSETFROM:+0200
TZOFFSETTO:+0300
TZNAME:EEST
DTSTART:20260329T010000
END:DAYLIGHT
BEGIN:STANDARD
TZOFFSETFROM:+0300
TZOFFSETTO:+0200
TZNAME:EET
DTSTART:20261025T010000
END:STANDARD
BEGIN:DAYLIGHT
TZOFFSETFROM:+0200
TZOFFSETTO:+0300
TZNAME:EEST
DTSTART:20270328T010000
END:DAYLIGHT
BEGIN:STANDARD
TZOFFSETFROM:+0300
TZOFFSETTO:+0200
TZNAME:EET
DTSTART:20271031T010000
END:STANDARD
END:VTIMEZONE
BEGIN:VEVENT
DTSTART;TZID=Europe/Helsinki:20260414T093000
DTEND;TZID=Europe/Helsinki:20260414T110000
DTSTAMP:20260420T085134
CREATED:20260418T222217Z
LAST-MODIFIED:20260418T222217Z
UID:6697-1776159000-1776164400@www.meditacionzensevilla.com
SUMMARY:MEDITACIÓN MATINAL ONLINE
DESCRIPTION:LA BARCA DE BUDA le invita a través de ZOOM a la meditación online de los martes de 09:30h a 11:00h de la mañana. \nEntra en la reunión pulsando AQUÍ o copiando el siguiente enlace: \nhttps://us02web.zoom.us/j/87975583589?pwd=Y2hBSmNxT20xRXZ5dFNIYVQ3ZkU5QT09 \no bien\, en la aplicación ZOOM entra los siguientes datos: \nID de reunión: 879 7558 3589\nCódigo de acceso: LaBarca01
URL:https://www.meditacionzensevilla.com/evento/meditacion-matinal-online-22/
END:VEVENT
BEGIN:VEVENT
DTSTART;TZID=Europe/Helsinki:20260414T180000
DTEND;TZID=Europe/Helsinki:20260414T191500
DTSTAMP:20260420T085134
CREATED:20260418T220955Z
LAST-MODIFIED:20260418T220955Z
UID:6687-1776189600-1776194100@www.meditacionzensevilla.com
SUMMARY:MEDITACIÓN PRESENCIAL
DESCRIPTION:Te esperamos en nuestra sala de meditación en Sevilla Plaza de la Moravia 6\, local. Tienes a tu disposición sillas\, zafús\, banquito\, mantas y cojines. \nTodos los martes de 18:00 a 19:15 \nAportación sugerida 3 euros
URL:https://www.meditacionzensevilla.com/evento/meditacion-presencial-137/
END:VEVENT
BEGIN:VEVENT
DTSTART;TZID=Europe/Helsinki:20260416T190000
DTEND;TZID=Europe/Helsinki:20260416T203000
DTSTAMP:20260420T085134
CREATED:20260418T214639Z
LAST-MODIFIED:20260418T214814Z
UID:6672-1776366000-1776371400@www.meditacionzensevilla.com
SUMMARY:MEDITACIÓN PRESENCIAL
DESCRIPTION:Te esperamos en nuestra sala de meditación en Sevilla Plaza de la Moravia 6\, local. Tienes a tu disposición sillas\, zafús\, banquito\, mantas y cojines. \nTodos los jueves de 19:00 a 20:30 \nAportación sugerida 3 euros
URL:https://www.meditacionzensevilla.com/evento/meditacion-presencial-130/
END:VEVENT
BEGIN:VEVENT
DTSTART;TZID=Europe/Helsinki:20260421T093000
DTEND;TZID=Europe/Helsinki:20260421T110000
DTSTAMP:20260420T085134
CREATED:20260418T221925Z
LAST-MODIFIED:20260418T221925Z
UID:6693-1776763800-1776769200@www.meditacionzensevilla.com
SUMMARY:MEDITACIÓN MATINAL ONLINE
DESCRIPTION:LA BARCA DE BUDA le invita a través de ZOOM a la meditación online de los martes de 09:30h a 11:00h de la mañana. \nEntra en la reunión pulsando AQUÍ o copiando el siguiente enlace: \nhttps://us02web.zoom.us/j/87975583589?pwd=Y2hBSmNxT20xRXZ5dFNIYVQ3ZkU5QT09 \no bien\, en la aplicación ZOOM entra los siguientes datos: \nID de reunión: 879 7558 3589\nCódigo de acceso: LaBarca01
URL:https://www.meditacionzensevilla.com/evento/meditacion-matinal-online-20/
END:VEVENT
BEGIN:VEVENT
DTSTART;TZID=Europe/Helsinki:20260428T093000
DTEND;TZID=Europe/Helsinki:20260428T110000
DTSTAMP:20260420T085134
CREATED:20260418T222026Z
LAST-MODIFIED:20260418T222026Z
UID:6695-1777368600-1777374000@www.meditacionzensevilla.com
SUMMARY:MEDITACIÓN MATINAL ONLINE
DESCRIPTION:LA BARCA DE BUDA le invita a través de ZOOM a la meditación online de los martes de 09:30h a 11:00h de la mañana. \nEntra en la reunión pulsando AQUÍ o copiando el siguiente enlace: \nhttps://us02web.zoom.us/j/87975583589?pwd=Y2hBSmNxT20xRXZ5dFNIYVQ3ZkU5QT09 \no bien\, en la aplicación ZOOM entra los siguientes datos: \nID de reunión: 879 7558 3589\nCódigo de acceso: LaBarca01
URL:https://www.meditacionzensevilla.com/evento/meditacion-matinal-online-21/
END:VEVENT
BEGIN:VEVENT
DTSTART;TZID=Europe/Helsinki:20260428T180000
DTEND;TZID=Europe/Helsinki:20260428T191500
DTSTAMP:20260420T085134
CREATED:20260418T221110Z
LAST-MODIFIED:20260418T221110Z
UID:6689-1777399200-1777403700@www.meditacionzensevilla.com
SUMMARY:MEDITACIÓN PRESENCIAL
DESCRIPTION:Te esperamos en nuestra sala de meditación en Sevilla Plaza de la Moravia 6\, local. Tienes a tu disposición sillas\, zafús\, banquito\, mantas y cojines. \nTodos los martes de 18:00 a 19:15 \nAportación sugerida 3 euros
URL:https://www.meditacionzensevilla.com/evento/meditacion-presencial-138/
END:VEVENT
BEGIN:VEVENT
DTSTART;TZID=Europe/Helsinki:20260430T190000
DTEND;TZID=Europe/Helsinki:20260430T203000
DTSTAMP:20260420T085134
CREATED:20260418T214956Z
LAST-MODIFIED:20260418T214956Z
UID:6674-1777575600-1777581000@www.meditacionzensevilla.com
SUMMARY:MEDITACIÓN PRESENCIAL
DESCRIPTION:Te esperamos en nuestra sala de meditación en Sevilla Plaza de la Moravia 6\, local. Tienes a tu disposición sillas\, zafús\, banquito\, mantas y cojines. \nTodos los jueves de 19:00 a 20:30 \nAportación sugerida 3 euros
URL:https://www.meditacionzensevilla.com/evento/meditacion-presencial-131/
END:VEVENT
BEGIN:VEVENT
DTSTART;TZID=Europe/Helsinki:20260505T093000
DTEND;TZID=Europe/Helsinki:20260505T110000
DTSTAMP:20260420T085134
CREATED:20260418T222706Z
LAST-MODIFIED:20260418T222706Z
UID:6699-1777973400-1777978800@www.meditacionzensevilla.com
SUMMARY:MEDITACIÓN MATINAL ONLINE
DESCRIPTION:LA BARCA DE BUDA le invita a través de ZOOM a la meditación online de los martes de 09:30h a 11:00h de la mañana. \nEntra en la reunión pulsando AQUÍ o copiando el siguiente enlace: \nhttps://us02web.zoom.us/j/87975583589?pwd=Y2hBSmNxT20xRXZ5dFNIYVQ3ZkU5QT09 \no bien\, en la aplicación ZOOM entra los siguientes datos: \nID de reunión: 879 7558 3589\nCódigo de acceso: LaBarca01
URL:https://www.meditacionzensevilla.com/evento/meditacion-matinal-online-23/
END:VEVENT
BEGIN:VEVENT
DTSTART;TZID=Europe/Helsinki:20260505T180000
DTEND;TZID=Europe/Helsinki:20260505T191500
DTSTAMP:20260420T085134
CREATED:20260418T223425Z
LAST-MODIFIED:20260418T223425Z
UID:6707-1778004000-1778008500@www.meditacionzensevilla.com
SUMMARY:MEDITACIÓN PRESENCIAL
DESCRIPTION:Te esperamos en nuestra sala de meditación en Sevilla Plaza de la Moravia 6\, local. Tienes a tu disposición sillas\, zafús\, banquito\, mantas y cojines. \nTodos los martes de 18:00 a 19:15 \nAportación sugerida 3 euros
URL:https://www.meditacionzensevilla.com/evento/meditacion-presencial-139/
END:VEVENT
BEGIN:VEVENT
DTSTART;TZID=Europe/Helsinki:20260507T190000
DTEND;TZID=Europe/Helsinki:20260507T203000
DTSTAMP:20260420T085134
CREATED:20260418T215304Z
LAST-MODIFIED:20260418T215304Z
UID:6676-1778180400-1778185800@www.meditacionzensevilla.com
SUMMARY:MEDITACIÓN PRESENCIAL
DESCRIPTION:Te esperamos en nuestra sala de meditación en Sevilla Plaza de la Moravia 6\, local. Tienes a tu disposición sillas\, zafus\, banquito\, mantas y cojines. \nTodos los jueves de 19:00 a 20:30 \nAportación sugerida 3 euros
URL:https://www.meditacionzensevilla.com/evento/meditacion-presencial-132/
END:VEVENT
BEGIN:VEVENT
DTSTART;TZID=Europe/Helsinki:20260509T100000
DTEND;TZID=Europe/Helsinki:20260509T170000
DTSTAMP:20260420T085134
CREATED:20260418T225719Z
LAST-MODIFIED:20260418T225719Z
UID:6716-1778320800-1778346000@www.meditacionzensevilla.com
SUMMARY:DÍA DE PLENA CONSCIENCIA
DESCRIPTION:Este día es una oportunidad para poner atención plena a todo cuanto hacemos y así generar paz. \nNo es necesaria inscripción \n 
URL:https://www.meditacionzensevilla.com/evento/dia-de-plena-consciencia-8/
END:VEVENT
BEGIN:VEVENT
DTSTART;TZID=Europe/Helsinki:20260512T093000
DTEND;TZID=Europe/Helsinki:20260512T110000
DTSTAMP:20260420T085134
CREATED:20260418T222757Z
LAST-MODIFIED:20260418T222757Z
UID:6701-1778578200-1778583600@www.meditacionzensevilla.com
SUMMARY:MEDITACIÓN MATINAL ONLINE
DESCRIPTION:LA BARCA DE BUDA le invita a través de ZOOM a la meditación online de los martes de 09:30h a 11:00h de la mañana. \nEntra en la reunión pulsando AQUÍ o copiando el siguiente enlace: \nhttps://us02web.zoom.us/j/87975583589?pwd=Y2hBSmNxT20xRXZ5dFNIYVQ3ZkU5QT09 \no bien\, en la aplicación ZOOM entra los siguientes datos: \nID de reunión: 879 7558 3589\nCódigo de acceso: LaBarca01
URL:https://www.meditacionzensevilla.com/evento/meditacion-matinal-online-24/
END:VEVENT
BEGIN:VEVENT
DTSTART;TZID=Europe/Helsinki:20260512T180000
DTEND;TZID=Europe/Helsinki:20260512T191500
DTSTAMP:20260420T085134
CREATED:20260418T223647Z
LAST-MODIFIED:20260418T223647Z
UID:6709-1778608800-1778613300@www.meditacionzensevilla.com
SUMMARY:MEDITACIÓN PRESENCIAL
DESCRIPTION:Te esperamos en nuestra sala de meditación en Sevilla Plaza de la Moravia 6\, local. Tienes a tu disposición sillas\, zafús\, banquito\, mantas y cojines. \nTodos los martes de 18:00 a 19:15 \nAportación sugerida 3 euros
URL:https://www.meditacionzensevilla.com/evento/meditacion-presencial-140/
END:VEVENT
BEGIN:VEVENT
DTSTART;TZID=Europe/Helsinki:20260514T190000
DTEND;TZID=Europe/Helsinki:20260514T203000
DTSTAMP:20260420T085134
CREATED:20260418T215651Z
LAST-MODIFIED:20260418T215651Z
UID:6678-1778785200-1778790600@www.meditacionzensevilla.com
SUMMARY:MEDITACIÓN PRESENCIAL
DESCRIPTION:Te esperamos en nuestra sala de meditación en Sevilla Plaza de la Moravia 6\, local. Tienes a tu disposición sillas\, zafús\, banquito\, mantas y cojines. \nTodos los jueves de 19:00 a 20:30 \nAportación sugerida 3 euros
URL:https://www.meditacionzensevilla.com/evento/meditacion-presencial-133/
END:VEVENT
BEGIN:VEVENT
DTSTART;TZID=Europe/Helsinki:20260519T093000
DTEND;TZID=Europe/Helsinki:20260519T110000
DTSTAMP:20260420T085134
CREATED:20260418T222851Z
LAST-MODIFIED:20260418T222851Z
UID:6703-1779183000-1779188400@www.meditacionzensevilla.com
SUMMARY:MEDITACIÓN MATINAL ONLINE
DESCRIPTION:LA BARCA DE BUDA le invita a través de ZOOM a la meditación online de los martes de 09:30h a 11:00h de la mañana. \nEntra en la reunión pulsando AQUÍ o copiando el siguiente enlace: \nhttps://us02web.zoom.us/j/87975583589?pwd=Y2hBSmNxT20xRXZ5dFNIYVQ3ZkU5QT09 \no bien\, en la aplicación ZOOM entra los siguientes datos: \nID de reunión: 879 7558 3589\nCódigo de acceso: LaBarca01
URL:https://www.meditacionzensevilla.com/evento/meditacion-matinal-online-25/
END:VEVENT
BEGIN:VEVENT
DTSTART;TZID=Europe/Helsinki:20260519T180000
DTEND;TZID=Europe/Helsinki:20260519T191500
DTSTAMP:20260420T085134
CREATED:20260418T223809Z
LAST-MODIFIED:20260418T223809Z
UID:6711-1779213600-1779218100@www.meditacionzensevilla.com
SUMMARY:MEDITACIÓN PRESENCIAL
DESCRIPTION:Te esperamos en nuestra sala de meditación en Sevilla Plaza de la Moravia 6\, local. Tienes a tu disposición sillas\, zafús\, banquito\, mantas y cojines. \nTodos los martes de 18:00 a 19:15 \nAportación sugerida 3 euros
URL:https://www.meditacionzensevilla.com/evento/meditacion-presencial-141/
END:VEVENT
BEGIN:VEVENT
DTSTART;TZID=Europe/Helsinki:20260521T190000
DTEND;TZID=Europe/Helsinki:20260521T203000
DTSTAMP:20260420T085134
CREATED:20260418T215841Z
LAST-MODIFIED:20260418T215841Z
UID:6680-1779390000-1779395400@www.meditacionzensevilla.com
SUMMARY:MEDITACIÓN PRESENCIAL
DESCRIPTION:Te esperamos en nuestra sala de meditación en Sevilla Plaza de la Moravia 6\, local. Tienes a tu disposición sillas\, zafús\, banquito\, mantas y cojines. \nTodos los jueves de 19:00 a 20:30 \nAportación sugerida 3 euros
URL:https://www.meditacionzensevilla.com/evento/meditacion-presencial-134/
END:VEVENT
BEGIN:VEVENT
DTSTART;TZID=Europe/Helsinki:20260526T093000
DTEND;TZID=Europe/Helsinki:20260526T110000
DTSTAMP:20260420T085134
CREATED:20260418T222946Z
LAST-MODIFIED:20260418T222946Z
UID:6705-1779787800-1779793200@www.meditacionzensevilla.com
SUMMARY:MEDITACIÓN MATINAL ONLINE
DESCRIPTION:LA BARCA DE BUDA le invita a través de ZOOM a la meditación online de los martes de 09:30h a 11:00h de la mañana. \nEntra en la reunión pulsando AQUÍ o copiando el siguiente enlace: \nhttps://us02web.zoom.us/j/87975583589?pwd=Y2hBSmNxT20xRXZ5dFNIYVQ3ZkU5QT09 \no bien\, en la aplicación ZOOM entra los siguientes datos: \nID de reunión: 879 7558 3589\nCódigo de acceso: LaBarca01
URL:https://www.meditacionzensevilla.com/evento/meditacion-matinal-online-26/
END:VEVENT
BEGIN:VEVENT
DTSTART;TZID=Europe/Helsinki:20260526T180000
DTEND;TZID=Europe/Helsinki:20260526T191500
DTSTAMP:20260420T085134
CREATED:20260418T223912Z
LAST-MODIFIED:20260418T223912Z
UID:6713-1779818400-1779822900@www.meditacionzensevilla.com
SUMMARY:MEDITACIÓN PRESENCIAL
DESCRIPTION:Te esperamos en nuestra sala de meditación en Sevilla Plaza de la Moravia 6\, local. Tienes a tu disposición sillas\, zafús\, banquito\, mantas y cojines. \nTodos los martes de 18:00 a 19:15 \nAportación sugerida 3 euros
URL:https://www.meditacionzensevilla.com/evento/meditacion-presencial-142/
END:VEVENT
BEGIN:VEVENT
DTSTART;TZID=Europe/Helsinki:20260528T190000
DTEND;TZID=Europe/Helsinki:20260528T203000
DTSTAMP:20260420T085134
CREATED:20260418T215944Z
LAST-MODIFIED:20260418T215944Z
UID:6682-1779994800-1780000200@www.meditacionzensevilla.com
SUMMARY:MEDITACIÓN PRESENCIAL
DESCRIPTION:Te esperamos en nuestra sala de meditación en Sevilla Plaza de la Moravia 6\, local. Tienes a tu disposición sillas\, zafús\, banquito\, mantas y cojines. \nTodos los jueves de 19:00 a 20:30 \nAportación sugerida 3 euros
URL:https://www.meditacionzensevilla.com/evento/meditacion-presencial-135/
END:VEVENT
END:VCALENDAR