BEGIN:VCALENDAR
VERSION:2.0
PRODID:-//Meditaci&oacute;n Zen Sevilla - ECPv6.15.13.1//NONSGML v1.0//EN
CALSCALE:GREGORIAN
METHOD:PUBLISH
X-ORIGINAL-URL:https://www.meditacionzensevilla.com
X-WR-CALDESC:Eventos para Meditaci&oacute;n Zen Sevilla
REFRESH-INTERVAL;VALUE=DURATION:PT1H
X-Robots-Tag:noindex
X-PUBLISHED-TTL:PT1H
BEGIN:VTIMEZONE
TZID:Europe/Helsinki
BEGIN:DAYLIGHT
TZOFFSETFROM:+0200
TZOFFSETTO:+0300
TZNAME:EEST
DTSTART:20250330T010000
END:DAYLIGHT
BEGIN:STANDARD
TZOFFSETFROM:+0300
TZOFFSETTO:+0200
TZNAME:EET
DTSTART:20251026T010000
END:STANDARD
BEGIN:DAYLIGHT
TZOFFSETFROM:+0200
TZOFFSETTO:+0300
TZNAME:EEST
DTSTART:20260329T010000
END:DAYLIGHT
BEGIN:STANDARD
TZOFFSETFROM:+0300
TZOFFSETTO:+0200
TZNAME:EET
DTSTART:20261025T010000
END:STANDARD
BEGIN:DAYLIGHT
TZOFFSETFROM:+0200
TZOFFSETTO:+0300
TZNAME:EEST
DTSTART:20270328T010000
END:DAYLIGHT
BEGIN:STANDARD
TZOFFSETFROM:+0300
TZOFFSETTO:+0200
TZNAME:EET
DTSTART:20271031T010000
END:STANDARD
END:VTIMEZONE
BEGIN:VEVENT
DTSTART;TZID=Europe/Helsinki:20260312T190000
DTEND;TZID=Europe/Helsinki:20260312T203000
DTSTAMP:20260420T084727
CREATED:20260303T124054Z
LAST-MODIFIED:20260303T124137Z
UID:6632-1773342000-1773347400@www.meditacionzensevilla.com
SUMMARY:MEDITACIÓN PRESENCIAL
DESCRIPTION:Te esperamos en nuestra sala de meditación en Sevilla Plaza de la Moravia 6\, local. Tienes a tu disposición sillas\, zafús\, banquito\, mantas y cojines. \nTodos los jueves de 19:00 a 20:30 \nAportación sugerida 3 euros
URL:https://www.meditacionzensevilla.com/evento/meditacion-presencial-122/
END:VEVENT
END:VCALENDAR